BEGIN:VCALENDAR
VERSION:2.0
PRODID:-//eventon.com NONSGML v1.0//EN
CALSCALE:GREGORIAN
METHOD:PUBLISH
BEGIN:VEVENT
UID:69ed1f24a446a
DTSTAMP:20260425T200804Z
DTSTART:20260529T160000Z
DTEND:20260529T173000Z
LOCATION:HORTI viale lungo Ticino Sforza\,  46 - Pavia
SUMMARY:La Cattedra della Speranza
DESCRIPTION:La Cattedra della Speranza INGRESSO LIBERO con iscrizione obbli
 gatoria compilando il modulo: https://docs.google.com/forms/d/e/1FAIpQLSfmD
 00qRQgd-OWvoUvAOr60y7wGkjFfbeLaMOnasAk8R2ZHWA/viewform HORTI viale lungo Ti
 cino Sforza\,  46 &#8211; Pavia\nhttps://kunpen.ngalso.org/events/la-catted
 ra-della-speranza/
URL:https://kunpen.ngalso.org/events/la-cattedra-della-speranza/
END:VEVENT
END:VCALENDAR