BEGIN:VCALENDAR
VERSION:2.0
PRODID:-//eventon.com NONSGML v1.0//EN
CALSCALE:GREGORIAN
METHOD:PUBLISH
BEGIN:VEVENT
UID:69ed1f204e151
DTSTAMP:20260425T200800Z
DTSTART:20260515T183000Z
DTEND:20260515T200000Z
LOCATION:teatro Sociale Fo e rame corso XXV aprile 11
SUMMARY:IV Festival Della Meraviglia
DESCRIPTION:IV Festival Della Meraviglia Dove vai cosÃ¬ di fretta? dialogoÂ
  con Lama Michel RinpocheÂ  20:30 Teatro Sociale Fo e Rame\,  corso XXV Apr
 ile\,  11 Luino per info e prenotazioni visita festivaldellameraviglia &nbs
 p;\nhttps://kunpen.ngalso.org/events/iv-festival-della-meraviglia/
URL:https://kunpen.ngalso.org/events/iv-festival-della-meraviglia/
END:VEVENT
END:VCALENDAR