BEGIN:VCALENDAR
VERSION:2.0
PRODID:-//eventon.com NONSGML v1.0//EN
CALSCALE:GREGORIAN
METHOD:PUBLISH
BEGIN:VEVENT
UID:69ed1f1c36be1
DTSTAMP:20260425T200756Z
DTSTART:20260807T133000Z
DTEND:20260807T093000Z
LOCATION:Albagnano Healing Meditation Centre Via Campo dell Eva\,  5\,  Bee (VB) 28813
SUMMARY:SUMMER CAMP 2026
DESCRIPTION:“Connessione” Summer Camp 2026 con Lama Michel Rinpoche e T
 eatro Selvatico Dai 9 ai 20 anni 7–14 agosto Accoglienza il 7 agosto alle
  15:30 e chiusura il 14 agosto alle 11:30 Abbiamo scelto questa settimana p
 erché il Centro di Albagnano sarà quasi interamente dedicato a noi\,  cos
 ì da offrire ai[..]\nhttps://kunpen.ngalso.org/events/summer-camp-2026/
URL:https://kunpen.ngalso.org/events/summer-camp-2026/
END:VEVENT
END:VCALENDAR