BEGIN:VCALENDAR
VERSION:2.0
PRODID:-//eventon.com NONSGML v1.0//EN
CALSCALE:GREGORIAN
METHOD:PUBLISH
BEGIN:VEVENT
UID:69ed14246de37
DTSTAMP:20260425T192108Z
DTSTART:20260509T183000Z
DTEND:20260509T200000Z
LOCATION:Albagnano Healing Meditation Centre Via Campo dell Eva\,  5\,  Bee (VB) 28813
SUMMARY:Campane Tibetane
DESCRIPTION:Campane Tibetane Rilassamento profondo  Il nostro corpo è com
 e uno strumento musicale che vibra e risuona con ciò che lo circonda. Se s
 ottoposto a situazioni di stress\,  emozioni disturbanti e un ambiente este
 rno inquinato perde la sua naturale vibrazione e similmente ad uno strument
 o accordato male non riesce più ad[..]\nhttps://kunpen.ngalso.org/events/c
 ampane-tibetane-2/var/ri-3.l-L1
URL:https://kunpen.ngalso.org/events/campane-tibetane-2/var/ri-3.l-L1
END:VEVENT
END:VCALENDAR