BEGIN:VCALENDAR
VERSION:2.0
PRODID:-//eventon.com NONSGML v1.0//EN
CALSCALE:GREGORIAN
METHOD:PUBLISH
BEGIN:VEVENT
UID:69e63b8b8b65f
DTSTAMP:20260420T144323Z
DTSTART:20250731T220000Z
DTEND:20250831T215500Z
LOCATION:
SUMMARY:Calendario Tibetano – Agosto 2025
DESCRIPTION:1 Venerdì Luna Crescente (primo quarto) Giorno di Tara Verde e
  del Buddha della Medicina Giorno favorevole per puja del fuoco Evitare le 
 operazioni chirurgiche Tagliare i capelli aumenta l’energia vitale &nbsp;
  2 Sabato Luna Crescente &nbsp; 3 Domenica Luna Crescente Giorno favorevole
  per puja del fuoco Tagliare i capelli[..]\nhttps://kunpen.ngalso.org/event
 s/calendario-tibetano-agosto-2025/
URL:https://kunpen.ngalso.org/events/calendario-tibetano-agosto-2025/
END:VEVENT
END:VCALENDAR