BEGIN:VCALENDAR
VERSION:2.0
PRODID:-//eventon.com NONSGML v1.0//EN
CALSCALE:GREGORIAN
METHOD:PUBLISH
BEGIN:VEVENT
UID:69ecfb962aa2e
DTSTAMP:20260425T173622Z
DTSTART:20260606T130000Z
DTEND:20260607T160000Z
LOCATION:Albagnano Healing Meditation Centre Via Campo dell Eva\,  5\,  Bee (VB) 28813
SUMMARY:Workshop di Arte e Meditazione
DESCRIPTION:Workshop di arte e meditazione Impariamo a visualizzare i simbo
 li dell’Autoguarigione NgalSo disegnandoli Sabato dalle 15.00 alle 18.00 
 Domenica dalle 15.00 alle 18.00 Un primo week end durante il quale\,  segue
 ndo il percorso dell’Autoguarigione Tantrica NgalSo di Lama Gangchen Rinp
 oche\,  si disegneranno i mandala dei cinque elementi ai nostri cinque[..]\
 nhttps://kunpen.ngalso.org/events/workshop-di-arte-e-meditazione/var/ri-5.l
 -L1
URL:https://kunpen.ngalso.org/events/workshop-di-arte-e-meditazione/var/ri-5.l-L1
END:VEVENT
END:VCALENDAR