BEGIN:VCALENDAR
VERSION:2.0
PRODID:-//eventon.com NONSGML v1.0//EN
CALSCALE:GREGORIAN
METHOD:PUBLISH
BEGIN:VEVENT
UID:69e637a2798fc
DTSTAMP:20260420T142642Z
DTSTART:20260505T150000Z
DTEND:20260505T163000Z
LOCATION:Albagnano Healing Meditation Centre Via Campo dell Eva\,  5\,  Bee (VB) 28813
SUMMARY:Insegnamenti del Venerabile Phra Pasura Dantamano
DESCRIPTION:Insegnamenti del Venerabile Phra Pasura Dantamano Le parole del
  Buddha sulla ricchezza spirituale e materiale  Venerabile Phra Pasura Dan
 tamano Phra Pasura Dantamano è un monaco di lunga esperienza e presta serv
 izio come responsabile della divisione relazioni internazionali presso il t
 empio Wat Phra Dhammakaya\,  che attualmente conta 101 filiali internaziona
 li. Introdotto[..]\nhttps://kunpen.ngalso.org/events/insegnamenti-del-vener
 abile-phra-pasura-dantamano/
URL:https://kunpen.ngalso.org/events/insegnamenti-del-venerabile-phra-pasura-dantamano/
END:VEVENT
END:VCALENDAR