BEGIN:VCALENDAR
VERSION:2.0
PRODID:-//eventon.com NONSGML v1.0//EN
CALSCALE:GREGORIAN
METHOD:PUBLISH
BEGIN:VEVENT
UID:69e892df95e24
DTSTAMP:20260422T092031Z
DTSTART:20260520T160000Z
DTEND:20260520T180000Z
LOCATION:Kunpen Milano Via Marco Polo\,  13 - Milano
SUMMARY:Mercoledì al Kunpen
DESCRIPTION:Mercoledì al Kunpen Il mercoledì\,  nel cuore di Milano\,  il
  Centro Kunpen propone sessioni di insegnamento per aiutarci a integrare la
  spiritualità nella nostra vita quotidiana. &nbsp; Per info potete scriver
 e a Milano@kunpen.it o telefonare\,  orario ufficio\,  al 3518824841 Il Dha
 rma è prezioso e non ha prezzo. Quindi\,  in accordo[..]\nhttps://kunpen.n
 galso.org/events/mercoledi-con-lama-michel-rinpoche-2/var/ri-34.l-L1
URL:https://kunpen.ngalso.org/events/mercoledi-con-lama-michel-rinpoche-2/var/ri-34.l-L1
END:VEVENT
END:VCALENDAR