BEGIN:VCALENDAR
VERSION:2.0
PRODID:-//eventon.com NONSGML v1.0//EN
CALSCALE:GREGORIAN
METHOD:PUBLISH
BEGIN:VEVENT
UID:69e652dabd2b0
DTSTAMP:20260420T162250Z
DTSTART:20230728T070000Z
DTEND:20230801T170000Z
LOCATION:Albagnano Healing Meditation Centre Via Campo dell Eva\,  5\,  Bee (VB) 28813
SUMMARY:Rituale del Rabne Chenmo
DESCRIPTION:Rituale del Rabne Chenmo Borobudur Tempio del Cielo sulla Ter
 ra: Inaugurazione Internazionale e Festival &#8220;la Pioggia di Benedizion
 i&#8221;  con l&#8217;assemblea dei lama\,  geshe e monaci  Programma Ven
 erdì 28 luglio ore 9.00-12.30 e 14.30-19.00 da Sabato 29 a lunedì 31 lugl
 io ore 8.00-12.30 e 14.30-19.00 Martedì 1 agosto ore 9.00 &#8211; 12.30 e[
 ..]\nhttps://kunpen.ngalso.org/events/rituale-del-rabne-chenmo/
URL:https://kunpen.ngalso.org/events/rituale-del-rabne-chenmo/
END:VEVENT
END:VCALENDAR