BEGIN:VCALENDAR
VERSION:2.0
PRODID:-//eventon.com NONSGML v1.0//EN
CALSCALE:GREGORIAN
METHOD:PUBLISH
BEGIN:VEVENT
UID:69e655753fb1c
DTSTAMP:20260420T163357Z
DTSTART:20200925T180000Z
DTEND:20200925T200000Z
LOCATION:Albagnano Healing Meditation Centre Via Campo dell Eva\,  5\,  Bee (VB) 28813
SUMMARY:Manjushri Nero
DESCRIPTION:Pratica di Manjushri Nero Ogni Venerdi dal 20.00 Manjushri Ner
 o è la forma irata di Manjushri\,  il Buddha della Saggezza. Numerosi so
 no i benefici della pratica meditativa di Manjushri Nero. Aiuta a dominar
 e la rabbia\,  la depressione\,  la paura e il rifiuto che sorgono quando s
 i è alle prese con un problema di salute o[..]\nhttps://kunpen.ngalso.org/
 events/manjushri-nero-2/
URL:https://kunpen.ngalso.org/events/manjushri-nero-2/
END:VEVENT
END:VCALENDAR