BEGIN:VCALENDAR
VERSION:2.0
PRODID:-//eventon.com NONSGML v1.0//EN
CALSCALE:GREGORIAN
METHOD:PUBLISH
BEGIN:VEVENT
UID:69e943db0c1ca
DTSTAMP:20260422T215539Z
DTSTART:20260428T143000Z
DTEND:20260428T163000Z
LOCATION:Kunpen Milano Via Marco Polo\,  13 - Milano
SUMMARY:Meditazione libera
DESCRIPTION:Meditazione libera  Il tempio è aperto per tutti coloro che v
 olessero fare la propria pratica di meditazione. &nbsp; Per info potete scr
 ivere a Milano@kunpen.it o telefonare\,  orario ufficio\,  al 3518824841 &n
 bsp; Il Dharma è prezioso e non ha prezzo. Quindi\,  in accordo con la tra
 dizione\,  questa attività è a offerta[..]\nhttps://kunpen.ngalso.org/en/
 events/meditazione-libera-del-martedi/var/ri-122.l-L1
URL:https://kunpen.ngalso.org/en/events/meditazione-libera-del-martedi/var/ri-122.l-L1
END:VEVENT
END:VCALENDAR