BEGIN:VCALENDAR
VERSION:2.0
PRODID:-//eventon.com NONSGML v1.0//EN
CALSCALE:GREGORIAN
METHOD:PUBLISH
BEGIN:VEVENT
UID:69ed7d0152eb2
DTSTAMP:20260426T024833Z
DTSTART:20260419T133000Z
DTEND:20260419T150000Z
LOCATION:Albagnano Healing Meditation Centre Via Campo dell Eva\,  5\,  Bee (VB) 28813
SUMMARY:Together on the Path
DESCRIPTION:Together on the Path Lam Rim course based on the text &#8220;Li
 beration in the Palm of Your Hand&#8221; of Paponka Rinpoche 10.30am &#8211
 ; 1.00 pm and 3.30 pm &#8211; 5.00 pm The Lam Rim\,  translated as &#8220;G
 radual Path\, &#8221; is a fundamental teaching of Tibetan Buddhism that gu
 ides practitioners through a[..]\nhttps://kunpen.ngalso.org/en/events/insie
 me-sul-sentiero-4/var/ri-1.l-L1
URL:https://kunpen.ngalso.org/en/events/insieme-sul-sentiero-4/var/ri-1.l-L1
END:VEVENT
END:VCALENDAR