BEGIN:VCALENDAR
VERSION:2.0
PRODID:-//eventon.com NONSGML v1.0//EN
CALSCALE:GREGORIAN
METHOD:PUBLISH
BEGIN:VEVENT
UID:69ed0fd29c5d9
DTSTAMP:20260425T190242Z
DTSTART:20260509T183000Z
DTEND:20260509T200000Z
LOCATION:Albagnano Healing Meditation Centre Via Campo dell Eva\,  5\,  Bee (VB) 28813
SUMMARY:Singing Bowls
DESCRIPTION:Singing Bowls Deep relaxation  Our body is like a musical inst
 rument that vibrates and resonates with its surroundings. If subjected to s
 tressful situations\,  disturbing emotions and a polluted external environm
 ent\,  it loses its natural vibration and\,  similarly to a poorly tuned in
 strument\,  it is no longer able to express itself[..]\nhttps://kunpen.ngal
 so.org/en/events/campane-tibetane-2/var/ri-3.l-L1
URL:https://kunpen.ngalso.org/en/events/campane-tibetane-2/var/ri-3.l-L1
END:VEVENT
END:VCALENDAR