BEGIN:VCALENDAR
VERSION:2.0
PRODID:-//eventon.com NONSGML v1.0//EN
CALSCALE:GREGORIAN
METHOD:PUBLISH
BEGIN:VEVENT
UID:69e653f985ef8
DTSTAMP:20260420T162737Z
DTSTART:20250731T220000Z
DTEND:20250831T215500Z
LOCATION:
SUMMARY:Tibetan Calendar – August 2025
DESCRIPTION:1 Friday Waxing Moon (first quarter) Green Tara and Medicine Bu
 ddha’s Day Good day for fire puja No surgical operations Cutting hair inc
 reases vitality &nbsp; 2 Saturday Waxing Moon &nbsp; 3 Sunday Waxing Moon G
 ood day for fire puja Cutting hair brings power of attraction &nbsp; 4 Mond
 ay Waxing Moon[..]\nhttps://kunpen.ngalso.org/en/events/tibetan-calendar-au
 gust-2025/
URL:https://kunpen.ngalso.org/en/events/tibetan-calendar-august-2025/
END:VEVENT
END:VCALENDAR