BEGIN:VCALENDAR
VERSION:2.0
PRODID:-//eventon.com NONSGML v1.0//EN
CALSCALE:GREGORIAN
METHOD:PUBLISH
BEGIN:VEVENT
UID:69e891ba81208
DTSTAMP:20260422T091538Z
DTSTART:20250804T090000Z
DTEND:20250810T160000Z
LOCATION:Albagnano Healing Meditation Centre Via Campo dell Eva\,  5\,  Bee (VB) 28813
SUMMARY:Dharma in the Nature 
DESCRIPTION:Dharma in the Nature  A week in contact with the five elements
  to nourish our body and mind Hikes in the woods\,  meditations in nature a
 nd teachings\,  including outdoors\,  with Lama Michel Rinpoche. And&#8230;
  Hatha Yoga sessions\,  Pranayama\,  yoga\,   healthy lifestyle conference
  that inspired us with doctors Maria Teresa Anfossi\, [..]\nhttps://kunpen.
 ngalso.org/en/events/dharma-e-natura/
URL:https://kunpen.ngalso.org/en/events/dharma-e-natura/
END:VEVENT
END:VCALENDAR