BEGIN:VCALENDAR
VERSION:2.0
PRODID:-//eventon.com NONSGML v1.0//EN
CALSCALE:GREGORIAN
METHOD:PUBLISH
BEGIN:VEVENT
UID:69e8940410433
DTSTAMP:20260422T092524Z
DTSTART:20250719T050000Z
DTEND:20250724T150000Z
LOCATION:Albagnano Healing Meditation Centre Via Campo dell Eva\,  5\,  Bee (VB) 28813
SUMMARY:NgalSo Self-Healing  of the Five Supreme Healers
DESCRIPTION:NgalSo Self-Healing retreat of the Five Supreme Healers The pra
 ctice of NgalSo Self-Healing transmitted by Lama Gangchen Rinpoche is a met
 hod to relax and heal the body\,  speech and mind as well as a complete spi
 ritual path to achieve the fully peaceful state of a buddha. This method wo
 rks on[..]\nhttps://kunpen.ngalso.org/en/events/autoguarigione-ngalso-dei-c
 inque-guaritori-supremi-2/
URL:https://kunpen.ngalso.org/en/events/autoguarigione-ngalso-dei-cinque-guaritori-supremi-2/
END:VEVENT
END:VCALENDAR