BEGIN:VCALENDAR
VERSION:2.0
PRODID:-//eventon.com NONSGML v1.0//EN
CALSCALE:GREGORIAN
METHOD:PUBLISH
BEGIN:VEVENT
UID:69ed7c5802269
DTSTAMP:20260426T024544Z
DTSTART:20260606T130000Z
DTEND:20260607T160000Z
LOCATION:Albagnano Healing Meditation Centre Via Campo dell Eva\,  5\,  Bee (VB) 28813
SUMMARY:Workshop of art and meditation
DESCRIPTION:Workshop of art and meditation: learning to visualise the symbo
 ls of NgalSo Self-Healing by drawing them Saturday: from 3.00 pm to 6.00 pm
  Sunday: from 10.30 am to 1.00 pm A first weekend during which\,  following
  the path of Lama Gangchen Rinpoche’s NgalSo Tantric Self-Healing\,  we w
 ill draw the mandalas[..]\nhttps://kunpen.ngalso.org/en/events/workshop-di-
 arte-e-meditazione/var/ri-5.l-L1
URL:https://kunpen.ngalso.org/en/events/workshop-di-arte-e-meditazione/var/ri-5.l-L1
END:VEVENT
END:VCALENDAR