BEGIN:VCALENDAR
VERSION:2.0
PRODID:-//eventon.com NONSGML v1.0//EN
CALSCALE:GREGORIAN
METHOD:PUBLISH
BEGIN:VEVENT
UID:69eb6e87612c5
DTSTAMP:20260424T132215Z
DTSTART:20241228T063000Z
DTEND:20250106T120000Z
LOCATION:Albagnano Healing Meditation Centre Via Campo dell Eva\,  5\,  Bee (VB) 28813
SUMMARY:Winter course
DESCRIPTION:Winter course The Very Wholesome Questions by Lama Tsong KhapaÂ
  and Combined NgalSo Self-Healing practices &#8212;&#8212;&#8212;&#8212;&#8
 212;&#8212;&#8212;&#8212;&#8212;&#8212;&#8212; Winter course The Very Whole
 some Questions Expressed with an Extraordinary Attitude by Lama Tsongkhapa\
 ,  with Lama Michel Rinpoche Combined NgalSo Tantric Self-Healing practices
 \,  with Lama Caroline &#8212;&#8212;&#8212;&#8212;&#8212;&#8212;&#8212;&#8
 212;&#8212;&#8212;&#8212; â€œThe Very Wholesome Questions Expressed with an
  Extraordinary[..]\nhttps://kunpen.ngalso.org/en/events/winter-course/
URL:https://kunpen.ngalso.org/en/events/winter-course/
END:VEVENT
END:VCALENDAR