BEGIN:VCALENDAR
VERSION:2.0
PRODID:-//eventon.com NONSGML v1.0//EN
CALSCALE:GREGORIAN
METHOD:PUBLISH
BEGIN:VEVENT
UID:69ecc3c91d7ab
DTSTAMP:20260425T133817Z
DTSTART:20250127T080000Z
DTEND:20250127T090000Z
LOCATION:Albagnano Healing Meditation Centre Via Campo dell Eva\,  5\,  Bee (VB) 28813
SUMMARY:NgalSo Tantric Self-Healing Practice 
DESCRIPTION:NgalSo Tantric Self-Healing Practice  NgalSo Tantric Self-Heal
 ing is a traditional Buddhist meditation practise suitable for modern peopl
 e\,  introduced by Lama Gangchen Rinpoche. The traditional\,  extensive for
 m of meditation has been compressed into a short practice. It helps us to o
 vercome our negativities and to strengthen us mentally and physically. The[
 ..]\nhttps://kunpen.ngalso.org/en/events/autoguarigione-tantrica-ngalso-16/
 var/ri-116.l-L1
URL:https://kunpen.ngalso.org/en/events/autoguarigione-tantrica-ngalso-16/var/ri-116.l-L1
END:VEVENT
END:VCALENDAR