BEGIN:VCALENDAR
VERSION:2.0
PRODID:-//eventon.com NONSGML v1.0//EN
CALSCALE:GREGORIAN
METHOD:PUBLISH
BEGIN:VEVENT
UID:69e61f74dc367
DTSTAMP:20260420T124332Z
DTSTART:20240721T190000Z
DTEND:20240721T210000Z
LOCATION:Albagnano Healing Meditation Centre Via Campo dell Eva\,  5\,  Bee (VB) 28813
SUMMARY:Musica e Spiritualità - Laura Marzadori and Lama Michel Rinpoche
DESCRIPTION:Musica e Spiritualità – Laura Marzadori and Lama Michel Rinp
 oche &#8220;Dialogues with Artists&#8221; by Pierfrancesco Pacoda Temple of
  Heaven on Earth &#8211; Albagnano di Beè A series of conversations in ita
 lian language and acoustic performances with the protagonists of new Italia
 n music &#8211; curated by Pierfrancesco Pacoda For the first[..]\nhttps://
 kunpen.ngalso.org/en/events/musica-e-spiritualita-laura-marzadori/
URL:https://kunpen.ngalso.org/en/events/musica-e-spiritualita-laura-marzadori/
END:VEVENT
END:VCALENDAR