BEGIN:VCALENDAR
VERSION:2.0
PRODID:-//eventon.com NONSGML v1.0//EN
CALSCALE:GREGORIAN
METHOD:PUBLISH
BEGIN:VEVENT
UID:69e7609d1c07a
DTSTAMP:20260421T113349Z
DTSTART:20231026T060000Z
DTEND:20231026T073000Z
LOCATION:Albagnano Healing Meditation Centre Via Campo dell Eva\,  5\,  Bee (VB) 28813
SUMMARY:Study Group - Dagzin Shagdeb
DESCRIPTION:Study Group for the text Dagzin Shagdeb with Lama Michel Rinpoc
 he. To register  To order the book Two ways: In person in Albagnano with g
 roup discussion\,  Or via youtube to only follow the teaching parts. Import
 ante Note: It won&#8217;t be possible to enter after the end of the prayers
 . Upcoming:[..]\nhttps://kunpen.ngalso.org/en/events/study-group-dagzin-sha
 gdeb/
URL:https://kunpen.ngalso.org/en/events/study-group-dagzin-shagdeb/
END:VEVENT
END:VCALENDAR