BEGIN:VCALENDAR
VERSION:2.0
PRODID:-//eventon.com NONSGML v1.0//EN
CALSCALE:GREGORIAN
METHOD:PUBLISH
BEGIN:VEVENT
UID:69e63b23e88ae
DTSTAMP:20260420T144139Z
DTSTART:20230728T070000Z
DTEND:20230801T170000Z
LOCATION:Albagnano Healing Meditation Centre Via Campo dell Eva\,  5\,  Bee (VB) 28813
SUMMARY:Rabne Chenmo ritual
DESCRIPTION:Rabne Chenmo ritual Borobudur Temple of Heaven on Earth: Intern
 ational Inauguration and &#8216;the Rain of Blessings&#8217; Festival with 
 the assembly of lamas\,  geshes and monks Programme  Friday 28th July 9.00
  am -12.30 am and 2.30 pm &#8211; 7.00 pm from Saturday 29th to Monday 31th
   8.00 am -12.30 am and[..]\nhttps://kunpen.ngalso.org/en/events/rabne-che
 nmo-ritual/
URL:https://kunpen.ngalso.org/en/events/rabne-chenmo-ritual/
END:VEVENT
END:VCALENDAR