BEGIN:VCALENDAR
VERSION:2.0
PRODID:-//eventon.com NONSGML v1.0//EN
CALSCALE:GREGORIAN
METHOD:PUBLISH
BEGIN:VEVENT
UID:69e63a7f4c505
DTSTAMP:20260420T143855Z
DTSTART:20200925T180000Z
DTEND:20200925T200000Z
LOCATION:Albagnano Healing Meditation Centre Via Campo dell Eva\,  5\,  Bee (VB) 28813
SUMMARY:Black Manjushri
DESCRIPTION:Practice of Black Manjushri Each Friday at 8 pm Black Manjushri
  is the wrathful healing form of Manjushri\,  the Buddha of Wisdom.   This
  practice helps us to heal our deep inner negative emotions and the mental 
 sufferings that arise due to problems or sickness; it is also a powerful[..
 ]\nhttps://kunpen.ngalso.org/en/events/manjushri-nero-2/
URL:https://kunpen.ngalso.org/en/events/manjushri-nero-2/
END:VEVENT
END:VCALENDAR